BEGIN:VCALENDAR
VERSION:2.0
PRODID:-//Gretsch Golf Academy - ECPv6.15.14//NONSGML v1.0//EN
CALSCALE:GREGORIAN
METHOD:PUBLISH
X-ORIGINAL-URL:https://gretschgolf.com
X-WR-CALDESC:Events for Gretsch Golf Academy
REFRESH-INTERVAL;VALUE=DURATION:PT1H
X-Robots-Tag:noindex
X-PUBLISHED-TTL:PT1H
BEGIN:VTIMEZONE
TZID:America/Los_Angeles
BEGIN:DAYLIGHT
TZOFFSETFROM:-0800
TZOFFSETTO:-0700
TZNAME:PDT
DTSTART:20240310T100000
END:DAYLIGHT
BEGIN:STANDARD
TZOFFSETFROM:-0700
TZOFFSETTO:-0800
TZNAME:PST
DTSTART:20241103T090000
END:STANDARD
BEGIN:DAYLIGHT
TZOFFSETFROM:-0800
TZOFFSETTO:-0700
TZNAME:PDT
DTSTART:20250309T100000
END:DAYLIGHT
BEGIN:STANDARD
TZOFFSETFROM:-0700
TZOFFSETTO:-0800
TZNAME:PST
DTSTART:20251102T090000
END:STANDARD
BEGIN:DAYLIGHT
TZOFFSETFROM:-0800
TZOFFSETTO:-0700
TZNAME:PDT
DTSTART:20260308T100000
END:DAYLIGHT
BEGIN:STANDARD
TZOFFSETFROM:-0700
TZOFFSETTO:-0800
TZNAME:PST
DTSTART:20261101T090000
END:STANDARD
END:VTIMEZONE
BEGIN:VEVENT
DTSTART;VALUE=DATE:20251102
DTEND;VALUE=DATE:20251103
DTSTAMP:20260422T183713
CREATED:20250909T141704Z
LAST-MODIFIED:20251114T233823Z
UID:10000008-1762041600-1762127999@gretschgolf.com
SUMMARY:U.S. Kids Golf Local Tour - Las Vegas Golf Club
DESCRIPTION:The U.S. Kids Golf Las Vegas Local Tour offers a welcoming and competitive environment for junior golfers ages 5 to 18 to develop their skills and enjoy the game \n  \n\nHosted at top Las Vegas-area golf courses\nSeason includes 6–8 one-day events\, plus a Local Tour Championship\nAge-based divisions: younger players (5–8) play 9 holes\, older players (9–18) play 18 holes\nCaddies encouraged\, especially for players 8 and under\nPoints and awards earned at each event\nOpportunities to qualify for higher-level competitions: State\, Regional\, and World Championships\nFamily-friendly atmosphere focused on skill development and sportsmanship
URL:https://gretschgolf.com/events/u-s-kids-golf-local-tour-las-vegas-golf-club
LOCATION:Las Vegas Golf Club\, 4300 W Washington Ave\, Las Vegas\, NV\, 89107\, United States
CATEGORIES:All Age Groups,Beginner Lizard,Boys & Girls,Competitive Roadrunner,Junior Academy
END:VEVENT
BEGIN:VEVENT
DTSTART;VALUE=DATE:20251102
DTEND;VALUE=DATE:20251103
DTSTAMP:20260422T183713
CREATED:20250909T142845Z
LAST-MODIFIED:20251114T233823Z
UID:10000009-1762041600-1762127999@gretschgolf.com
SUMMARY:U.S. Kids Golf Arizona Tour - Sun City Country Club
DESCRIPTION:The U.S. Kids Golf Arizona Local Tour is a seasonal series of junior golf tournaments designed for boys and girls ages 5 to 18.\n\n\nHosted at top Arizona golf courses\nSeason includes 6–8 one-day events\, plus a Local Tour Championship\nAge-based divisions: younger players (5–8) play 9 holes\, older players (9–18) play 18 holes\nCaddies encouraged\, especially for players 8 and under\nPoints and awards earned at each event\nOpportunities to qualify for higher-level competitions: State\, Regional\, and World Championships\nFamily-friendly atmosphere focused on skill development and sportsmanship
URL:https://gretschgolf.com/events/u-s-kids-golf-arizona-tour-sun-city-country-club
LOCATION:Sun City Country Club\, 9433 N 107th Ave\, Sun City\, AZ\, 85351\, United States
CATEGORIES:All Age Groups,Beginner Lizard,Boys & Girls,Competitive Roadrunner,Junior Academy
END:VEVENT
BEGIN:VEVENT
DTSTART;VALUE=DATE:20251115
DTEND;VALUE=DATE:20251116
DTSTAMP:20260422T183713
CREATED:20250909T143251Z
LAST-MODIFIED:20251114T233823Z
UID:10000010-1763164800-1763251199@gretschgolf.com
SUMMARY:Hurricane Junior Tour - Orange Tree Golf Club
DESCRIPTION:The HJGT is unlike any other junior golf experience in the world. \n  \n\nThe tour emphasizes inclusion and has an 18-year track record of excellence.\nParticipants enjoy premier venues\, top-level competition\, and state-of-the-art technology.\nThe HJGT is known for its exceptional customer service and diverse schedule with many events held nationwide.\nMembership is about more than just golf—it’s about creating lifelong memories with family and building lasting friendships.\nThe tour is an ideal platform to prepare for college golf and to develop skills that last a lifetime.
URL:https://gretschgolf.com/events/hurricane-junior-tour-orange-tree-golf-club
LOCATION:Orange Tree Golf Club\, 10601 N 56th St\, Scottsdale\, AZ\, 85254\, United States
CATEGORIES:Ages 10-14,Ages 15-18,Boys & Girls,Competitive Roadrunner,Elite Mountain Lion,Junior Academy
END:VEVENT
BEGIN:VEVENT
DTSTART;VALUE=DATE:20251115
DTEND;VALUE=DATE:20251117
DTSTAMP:20260422T183713
CREATED:20250909T145238Z
LAST-MODIFIED:20251114T233823Z
UID:10000011-1763164800-1763337599@gretschgolf.com
SUMMARY:Future Champions Tour - Legacy Golf Club
DESCRIPTION:The Global Leader in Junior Golf\, helping all junior golfers develop their game to play at the collegiate level in the USA \n\nOver 130 tournaments held across the USA — membership not required\, but offers excellent member benefits\nMore than 75 international qualifiers\, including the new FCG Asia Series and FCG Mexico Series\nGreat exposure to college coaches\, with the upcoming CAMPUS by FCG platform\nCompete for a chance to qualify for the prestigious FCG Callaway World Championship
URL:https://gretschgolf.com/events/future-champions-tour-legacy-golf-club
LOCATION:Legacy Golf Club\, 130 Par Excellence Dr\, Henderson\, Nevada\, 89074\, United States
CATEGORIES:All Age Groups,Boys & Girls,Elite Mountain Lion,Junior Academy
END:VEVENT
BEGIN:VEVENT
DTSTART;VALUE=DATE:20251116
DTEND;VALUE=DATE:20251117
DTSTAMP:20260422T183713
CREATED:20250909T150339Z
LAST-MODIFIED:20251114T233823Z
UID:10000012-1763251200-1763337599@gretschgolf.com
SUMMARY:Under Armour Junior Tour - Revere Golf Club
DESCRIPTION:The Under Armour Tour is a 9 Hole junior tour that is open to boys and girls ages 6 to 18\, with four age divisions: 6–8\, 9–11\, 12–14\, and 15–18 \n\nCaddies are allowed for age groups 6–8\, 9–11\, and 12–14; not permitted for 15–18\nLeague play includes six weekend matches\, featuring both 9-hole and 18-hole individual stroke play formats\nPlayers earn points by finishing in the Top 15 of their age division at each match\nMedals awarded to 1st\, 2nd\, and 3rd place finishers in each division at every event\nPlayers who compete in at least 3 events and meet scoring averages (e.g.\, 42 or better for boys 9–18) may qualify for the National Championship\nLeague Champions receive a special medal and must meet scoring criteria to be invited to Nationals\nRegistration includes entry into all matches\, an Under Armour player gift\, and awards\nYardages are tailored by age group\, with shorter setups for younger divisions\nTriple bogey is the maximum score allowed per hole in league play\n\n 
URL:https://gretschgolf.com/events/under-armour-junior-tour-revere-golf-club
LOCATION:Revere Golf Club\, 2600 Hampton Rd\, Henderson\, NV\, 89052\, United States
CATEGORIES:All Age Groups,Beginner Lizard,Boys & Girls,Competitive Roadrunner,Junior Academy
END:VEVENT
BEGIN:VEVENT
DTSTART;VALUE=DATE:20251122
DTEND;VALUE=DATE:20251124
DTSTAMP:20260422T183713
CREATED:20250909T150748Z
LAST-MODIFIED:20251114T233823Z
UID:10000013-1763769600-1763942399@gretschgolf.com
SUMMARY:SNJGA - Henderson Amateur
DESCRIPTION:Founded in 1977\, the Southern Nevada Junior Golf Association (SNJGA) is a non-profit organization that introduces Southern Nevada’s youth to the game of golf and helps junior golfers develop golf and life skills through the game of golf. \n  \n\nProvides junior golf programs for boys and girls ages 5–18 in Southern Nevada\nOffers a range of competitive and developmental tournaments throughout the year\nFocuses on golf education\, sportsmanship\, and character development\nHosts events at local and regional golf courses across the Las Vegas area\nOffers instructional clinics\, team-based formats\, and individual stroke play competitions\nSupports junior golfers in preparing for high school and collegiate golf\nPromotes a fun\, inclusive\, and family-friendly environment\nPartners with local golf professionals and organizations to provide mentorship and coaching\nProvides scholarship opportunities and pathways to national junior golf events
URL:https://gretschgolf.com/events/snjga-henderson-amateur
LOCATION:Legacy Golf Club\, 130 Par Excellence Dr\, Henderson\, Nevada\, 89074\, United States
CATEGORIES:Ages 10-14,Ages 15-18,Boys & Girls,Competitive Roadrunner,Elite Mountain Lion,Junior Academy
END:VEVENT
END:VCALENDAR