BEGIN:VCALENDAR
VERSION:2.0
PRODID:-//Gretsch Golf Academy - ECPv6.15.14//NONSGML v1.0//EN
CALSCALE:GREGORIAN
METHOD:PUBLISH
X-ORIGINAL-URL:https://gretschgolf.com
X-WR-CALDESC:Events for Gretsch Golf Academy
REFRESH-INTERVAL;VALUE=DURATION:PT1H
X-Robots-Tag:noindex
X-PUBLISHED-TTL:PT1H
BEGIN:VTIMEZONE
TZID:America/Los_Angeles
BEGIN:DAYLIGHT
TZOFFSETFROM:-0800
TZOFFSETTO:-0700
TZNAME:PDT
DTSTART:20240310T100000
END:DAYLIGHT
BEGIN:STANDARD
TZOFFSETFROM:-0700
TZOFFSETTO:-0800
TZNAME:PST
DTSTART:20241103T090000
END:STANDARD
BEGIN:DAYLIGHT
TZOFFSETFROM:-0800
TZOFFSETTO:-0700
TZNAME:PDT
DTSTART:20250309T100000
END:DAYLIGHT
BEGIN:STANDARD
TZOFFSETFROM:-0700
TZOFFSETTO:-0800
TZNAME:PST
DTSTART:20251102T090000
END:STANDARD
BEGIN:DAYLIGHT
TZOFFSETFROM:-0800
TZOFFSETTO:-0700
TZNAME:PDT
DTSTART:20260308T100000
END:DAYLIGHT
BEGIN:STANDARD
TZOFFSETFROM:-0700
TZOFFSETTO:-0800
TZNAME:PST
DTSTART:20261101T090000
END:STANDARD
END:VTIMEZONE
BEGIN:VEVENT
DTSTART;VALUE=DATE:20251207
DTEND;VALUE=DATE:20251208
DTSTAMP:20260422T165647
CREATED:20250909T151055Z
LAST-MODIFIED:20251114T233823Z
UID:10000014-1765065600-1765151999@gretschgolf.com
SUMMARY:U.S. Kids Golf Local Tour - Chimera Golf Club
DESCRIPTION:The U.S. Kids Golf Las Vegas Local Tour offers a welcoming and competitive environment for junior golfers ages 5 to 18 to develop their skills and enjoy the game.\n  \n\nHosted at top Las Vegas-area golf courses\nSeason includes 6–8 one-day events\, plus a Local Tour Championship\nAge-based divisions: younger players (5–8) play 9 holes\, older players (9–18) play 18 holes\nCaddies encouraged\, especially for players 8 and under\nPoints and awards earned at each event\nOpportunities to qualify for higher-level competitions: State\, Regional\, and World Championships\nFamily-friendly atmosphere focused on skill development and sportsmanship
URL:https://gretschgolf.com/events/u-s-kids-golf-local-tour-chimera-golf-club
LOCATION:Chimera Golf Club\, 901 Oliva Pkwy\, Henderson\, NV\, 89011\, United States
CATEGORIES:All Age Groups,Beginner Lizard,Boys & Girls,Competitive Roadrunner,Junior Academy
END:VEVENT
BEGIN:VEVENT
DTSTART;VALUE=DATE:20251207
DTEND;VALUE=DATE:20251208
DTSTAMP:20260422T165647
CREATED:20250909T151422Z
LAST-MODIFIED:20251114T233822Z
UID:10000015-1765065600-1765151999@gretschgolf.com
SUMMARY:U.S. Kids Golf Arizona Tour - Tres Rios Golf Club
DESCRIPTION:The U.S. Kids Golf Arizona Local Tour is a seasonal series of junior golf tournaments designed for boys and girls ages 5 to 18.\n  \n\nHosted at top Arizona golf courses\nSeason includes 6–8 one-day events\, plus a Local Tour Championship\nAge-based divisions: younger players (5–8) play 9 holes\, older players (9–18) play 18 holes\nCaddies encouraged\, especially for players 8 and under\nPoints and awards earned at each event\nOpportunities to qualify for higher-level competitions: State\, Regional\, and World Championships\nFamily-friendly atmosphere focused on skill development and sportsmanship
URL:https://gretschgolf.com/events/u-s-kids-golf-arizona-tour-tres-rios-golf-club
LOCATION:Tres Rios Golf Club\, 15202 W Vineyard\, Goodyear\, AZ\, 85338\, United States
CATEGORIES:All Age Groups,Beginner Lizard,Boys & Girls,Competitive Roadrunner,Junior Academy
END:VEVENT
BEGIN:VEVENT
DTSTART;VALUE=DATE:20251214
DTEND;VALUE=DATE:20251215
DTSTAMP:20260422T165647
CREATED:20250909T151744Z
LAST-MODIFIED:20251114T233822Z
UID:10000016-1765670400-1765756799@gretschgolf.com
SUMMARY:U.S. Kids Golf Arizona Tour - Biltmore G&CC
DESCRIPTION:The U.S. Kids Golf Arizona Local Tour is a seasonal series of junior golf tournaments designed for boys and girls ages 5 to 18.\n  \n\nHosted at top Arizona golf courses\nSeason includes 6–8 one-day events\, plus a Local Tour Championship\nAge-based divisions: younger players (5–8) play 9 holes\, older players (9–18) play 18 holes\nCaddies encouraged\, especially for players 8 and under\nPoints and awards earned at each event\nOpportunities to qualify for higher-level competitions: State\, Regional\, and World Championships\nFamily-friendly atmosphere focused on skill development and sportsmanship
URL:https://gretschgolf.com/events/u-s-kids-golf-arizona-tour-biltmore-gcc
LOCATION:Biltmore G&CC\, 2400 E Missouri Ave\, Phoenix\, AZ\, 85016\, United States
CATEGORIES:All Age Groups,Beginner Lizard,Boys & Girls,Competitive Roadrunner,Junior Academy
END:VEVENT
BEGIN:VEVENT
DTSTART;VALUE=DATE:20251227
DTEND;VALUE=DATE:20251229
DTSTAMP:20260422T165647
CREATED:20250909T152138Z
LAST-MODIFIED:20251203T203506Z
UID:10000017-1766793600-1766966399@gretschgolf.com
SUMMARY:Hurricane Junior Golf Tour - Talking Stick
DESCRIPTION:The HJGT offers a junior golf experience unlike any other in the world. \n\nThe tour emphasizes inclusion and has an 18-year track record of excellence.\nParticipants enjoy premier venues\, top-level competition\, and state-of-the-art technology.\nThe HJGT is known for its exceptional customer service and diverse schedule with many events held nationwide.\nMembership is about more than just golf—it’s about creating lifelong memories with family and building lasting friendships.\nThe tour is an ideal platform to prepare for college golf and to develop skills that last a lifetime.
URL:https://gretschgolf.com/events/hurricane-junior-golf-tour-talking-stick
LOCATION:Talking Stick Golf Club\, 9998 E Talking Stick Way\, Scottsdale\, AZ\, 85256\, United States
CATEGORIES:Ages 10-14,Ages 15-18,Boys & Girls,Competitive Roadrunner,Elite Mountain Lion,Junior Academy
END:VEVENT
END:VCALENDAR