BEGIN:VCALENDAR
VERSION:2.0
PRODID:-//Gretsch Golf Academy - ECPv6.15.14//NONSGML v1.0//EN
CALSCALE:GREGORIAN
METHOD:PUBLISH
X-ORIGINAL-URL:https://gretschgolf.com
X-WR-CALDESC:Events for Gretsch Golf Academy
REFRESH-INTERVAL;VALUE=DURATION:PT1H
X-Robots-Tag:noindex
X-PUBLISHED-TTL:PT1H
BEGIN:VTIMEZONE
TZID:America/Los_Angeles
BEGIN:DAYLIGHT
TZOFFSETFROM:-0800
TZOFFSETTO:-0700
TZNAME:PDT
DTSTART:20250309T100000
END:DAYLIGHT
BEGIN:STANDARD
TZOFFSETFROM:-0700
TZOFFSETTO:-0800
TZNAME:PST
DTSTART:20251102T090000
END:STANDARD
BEGIN:DAYLIGHT
TZOFFSETFROM:-0800
TZOFFSETTO:-0700
TZNAME:PDT
DTSTART:20260308T100000
END:DAYLIGHT
BEGIN:STANDARD
TZOFFSETFROM:-0700
TZOFFSETTO:-0800
TZNAME:PST
DTSTART:20261101T090000
END:STANDARD
BEGIN:DAYLIGHT
TZOFFSETFROM:-0800
TZOFFSETTO:-0700
TZNAME:PDT
DTSTART:20270314T100000
END:DAYLIGHT
BEGIN:STANDARD
TZOFFSETFROM:-0700
TZOFFSETTO:-0800
TZNAME:PST
DTSTART:20271107T090000
END:STANDARD
END:VTIMEZONE
BEGIN:VEVENT
DTSTART;VALUE=DATE:20260228
DTEND;VALUE=DATE:20260302
DTSTAMP:20260422T115553
CREATED:20260201T002049Z
LAST-MODIFIED:20260201T002049Z
UID:10000073-1772236800-1772409599@gretschgolf.com
SUMMARY:Teen Series at Las Vegas Golf Club
DESCRIPTION:Las Vegas Golf Club in Las Vegas\, NV will serve as the host for the U.S. Kids Golf Teen Series Event on February 28 – March 1\, 2026. \nPlayers between the ages of 12-18 will have the opportunity to compete in a multi-day championship event and qualify for U.S. Kids Golf Priority Status\, AJGA Performance Stars\, and Junior Golf Scoreboard Rankings. By earning different levels of Priority Status\, players can qualify for other U.S. Kids Golf multi-day events including Regional\, International\, and World Teen Championships. Refer to the Event Registration Information for more on the invitation schedule and how to register.
URL:https://gretschgolf.com/events/teen-series-at-las-vegas-golf-club
LOCATION:Las Vegas Golf Club\, 4300 W Washington Ave\, Las Vegas\, NV\, 89107\, United States
CATEGORIES:Ages 10-14,Ages 15-18,Boys,Boys & Girls,Elite Mountain Lion,Girls,Junior Academy
END:VEVENT
BEGIN:VEVENT
DTSTART;VALUE=DATE:20260307
DTEND;VALUE=DATE:20260309
DTSTAMP:20260422T115553
CREATED:20260201T012525Z
LAST-MODIFIED:20260201T012525Z
UID:10000074-1772841600-1773014399@gretschgolf.com
SUMMARY:CJG Pasadena City Championship @ Brookside GC
DESCRIPTION:Begins:\nNov 19\, 2025 at 12:01 AM PST\n\n\n Entry Deadline:\nMar 2\, 2026 at 11:59 PM PST\n\n\n\n\n\n\n Entry Fee:\n Fee\n\n\n Member\n $225\n\n\n\n Non-Member\n $275\n\n\n\n\n\n\n\n Open To:\nMembers and Non-Members: \n\nParticipants aged 10 to 18 as of March 7\, 2026\nAmateur players only\n\n\n\n\n Field Size:\n56 players – Spots available\n\n\n Cancel Fee\n\n\n\n\n$0.00 if cancel by 12:01 AM on Thu Feb 26\n\n\n$25.00 if cancel by 12:01 AM on Mon Mar 2\n\n\n$125.00 if cancel by 12:01 AM on Sat Mar 7
URL:https://gretschgolf.com/events/cjg-pasadena-city-championship-brookside-gc
LOCATION:Brookeside GC\, Nay Pasadena\, California
CATEGORIES:Ages 10-14,Ages 15-18,Boys,Boys & Girls,Elite Mountain Lion,Girls,Junior Academy
END:VEVENT
BEGIN:VEVENT
DTSTART;VALUE=DATE:20260307
DTEND;VALUE=DATE:20260309
DTSTAMP:20260422T115553
CREATED:20260201T013149Z
LAST-MODIFIED:20260201T013149Z
UID:10000075-1772841600-1773014399@gretschgolf.com
SUMMARY:Spring Break Desert Junior Open
DESCRIPTION:
URL:https://gretschgolf.com/events/spring-break-desert-junior-open
LOCATION:Union Hill Country Club\, 9860 W Lindgren Ave\, Sun City\, AZ\, 85373\, United States
CATEGORIES:Ages 10-14,Ages 15-18,Boys,Boys & Girls,Competitive Roadrunner,Elite Mountain Lion,Girls,Junior Academy
END:VEVENT
BEGIN:VEVENT
DTSTART;VALUE=DATE:20260307
DTEND;VALUE=DATE:20260309
DTSTAMP:20260422T115554
CREATED:20260201T013711Z
LAST-MODIFIED:20260201T013711Z
UID:10000077-1772841600-1773014399@gretschgolf.com
SUMMARY:National Tour Temecula Championship
DESCRIPTION:Welcome to the FCG Tour Spring Series. The World Series / National Tour Springs Series runs from January through July. ***Non Member registration rate opens 8 weeks before event date. Tee gifts on FCG Tour sponsored by Callaway Golf\, KBS Shafts and more! 36-Hole Age Divisions College Prep Divisions: Temecula Creek GC 13-14 Divisions; Pala Mesa Resort ***Collegiate Prep Boys & Girls– All players ages 15-18 must play in this field. All players 13 and up who are looking to take their game to the highest level should play up in this division.
URL:https://gretschgolf.com/events/national-tour-temecula-championship
LOCATION:Temecula Creek Golf Club\, 44501 Rainbow Canyon Rd\, Temecula\, CA\, 92592\, United States
CATEGORIES:Ages 10-14,Ages 15-18,Boys,Boys & Girls,Elite Mountain Lion,Girls
END:VEVENT
BEGIN:VEVENT
DTSTART;VALUE=DATE:20260308
DTEND;VALUE=DATE:20260309
DTSTAMP:20260422T115554
CREATED:20260201T014142Z
LAST-MODIFIED:20260201T014142Z
UID:10000078-1772928000-1773014399@gretschgolf.com
SUMMARY:Wildhorse Golf Club (Tour Championship)
DESCRIPTION:March 8\, 2026\n\n\n\n\n\nTee Times posted two days prior to event date. \n9-hole: $77.00\n18-hole: $87.00
URL:https://gretschgolf.com/events/wildhorse-golf-club-tour-championship
LOCATION:Wildhorse Golf Club\, 2100 W Warm Springs Rd\, Henderson\, NV\, 89014\, United States
CATEGORIES:Ages 10-14,Ages 15-18,Ages 6-9,All Age Groups,All Skill Levels,Beginner Lizard,Boys,Boys & Girls,Competitive Roadrunner,Elite Mountain Lion,Girls,Junior Academy
END:VEVENT
BEGIN:VEVENT
DTSTART;VALUE=DATE:20260321
DTEND;VALUE=DATE:20260323
DTSTAMP:20260422T115554
CREATED:20260201T014728Z
LAST-MODIFIED:20260201T014728Z
UID:10000079-1774051200-1774223999@gretschgolf.com
SUMMARY:National Tour Lakehouse Championship
DESCRIPTION:Welcome to the FCG Tour Spring Series. The World Series / National Tour Springs Series runs from January through July. ***Non Member registration rate opens 8 weeks before event date. Tee gifts on FCG Tour sponsored by Callaway Golf\, KBS Shafts and more! 36-Hole Age Divisions Boys College Prep Age 18 and Under Girls College Prep Age 18 and Under Boys 13-14 Girls 13-14 Boys 11-12- Caddies Allowed Girls 11-12- Caddies Allowed
URL:https://gretschgolf.com/events/national-tour-lakehouse-championship
LOCATION:The Links at Lakehouse\, 1750 San Pablo Dr\, San Marcos\, CA\, 92078\, United States
CATEGORIES:Ages 10-14,Ages 15-18,All Skill Levels,Boys,Boys & Girls,Elite Mountain Lion,Girls,Junior Academy
END:VEVENT
BEGIN:VEVENT
DTSTART;VALUE=DATE:20260328
DTEND;VALUE=DATE:20260330
DTSTAMP:20260422T115554
CREATED:20260201T015957Z
LAST-MODIFIED:20260201T015957Z
UID:10000080-1774656000-1774828799@gretschgolf.com
SUMMARY:National Tour Spring Break Junior
DESCRIPTION:Welcome to the FCG Tour Spring Series. The World Series / National Tour Springs Series runs from January through July. \n***Boys and Girls College Prep Champions earn an exemption to the 2026 Memorial Amateur Championship! \nTee gifts on FCG Tour sponsored by Callaway Golf\, KBS Shafts and more! \n36-Hole Age Divisions \nBoys College Prep Age 18 and Under \nGirls College Prep Age 18 and Under \nBoys 13-14 \nGirls 13-14 \n***Collegiate Prep Boys & Girls– All players ages 15-18 must play in this field. All players 13 and up who are looking to take their game to the highest level should play up in this division. \nPlayers must be a min of 13 years old to compete in College Prep Division regardless of skill level. \nThese events are great events for players to develop their competitive skills over multiple days on great venues. Opportunities to qualify for the AJGA and other events. All events are ranked by National Junior Golf Scoreboard and some are ranked by Golfweek.
URL:https://gretschgolf.com/events/national-tour-spring-break-junior
LOCATION:Twin Oaks Golf Course\, San Marcos\, California
CATEGORIES:Ages 10-14,Ages 15-18,All Skill Levels,Boys,Boys & Girls,Elite Mountain Lion,Girls,Junior Academy
END:VEVENT
BEGIN:VEVENT
DTSTART;VALUE=DATE:20260329
DTEND;VALUE=DATE:20260330
DTSTAMP:20260422T115554
CREATED:20260201T020822Z
LAST-MODIFIED:20260201T020822Z
UID:10000081-1774742400-1774828799@gretschgolf.com
SUMMARY:CJG Shootout @ Rancho Park
DESCRIPTION: Begins:\nNov 19\, 2025 at 12:01 AM PST\n\n\n Entry Deadline:\nMar 25\, 2026 at 10:01 PM PDT\n\n\n\n\n\n\n Entry Fee:\n Fee\n\n\n Member\n $130\n\n\n\n Non-Member\n $160\n\n\n\n\n\n\n\n Open To:\nMembers and Non-Members: \n\nParticipants aged 9 to 18 as of June 6\, 2026\n\n\n\n\n Field Size:\n70 players – Spots available\n\n\n Cancel Fee\n\n\n\n\n$0.00 if cancel by 12:01 AM on Thu Mar 19\n\n\n$20.00 if cancel by 12:01 AM on Tue Mar 24\n\n\n$70.00 if cancel by 12:01 AM on Sun Mar 29
URL:https://gretschgolf.com/events/cjg-shootout-rancho-park
LOCATION:Rancho Park Golf Course\, 3900 W. Chevy Chase Drive\, Los Angeles\, CA\, 90039\, United States
CATEGORIES:Ages 15-18,Boys,Boys & Girls,Elite Mountain Lion,Girls,Junior Academy
END:VEVENT
END:VCALENDAR