BEGIN:VCALENDAR
VERSION:2.0
PRODID:-//Gretsch Golf Academy - ECPv6.15.14//NONSGML v1.0//EN
CALSCALE:GREGORIAN
METHOD:PUBLISH
X-WR-CALNAME:Gretsch Golf Academy
X-ORIGINAL-URL:https://gretschgolf.com
X-WR-CALDESC:Events for Gretsch Golf Academy
REFRESH-INTERVAL;VALUE=DURATION:PT1H
X-Robots-Tag:noindex
X-PUBLISHED-TTL:PT1H
BEGIN:VTIMEZONE
TZID:America/Los_Angeles
BEGIN:DAYLIGHT
TZOFFSETFROM:-0800
TZOFFSETTO:-0700
TZNAME:PDT
DTSTART:20250309T100000
END:DAYLIGHT
BEGIN:STANDARD
TZOFFSETFROM:-0700
TZOFFSETTO:-0800
TZNAME:PST
DTSTART:20251102T090000
END:STANDARD
BEGIN:DAYLIGHT
TZOFFSETFROM:-0800
TZOFFSETTO:-0700
TZNAME:PDT
DTSTART:20260308T100000
END:DAYLIGHT
BEGIN:STANDARD
TZOFFSETFROM:-0700
TZOFFSETTO:-0800
TZNAME:PST
DTSTART:20261101T090000
END:STANDARD
BEGIN:DAYLIGHT
TZOFFSETFROM:-0800
TZOFFSETTO:-0700
TZNAME:PDT
DTSTART:20270314T100000
END:DAYLIGHT
BEGIN:STANDARD
TZOFFSETFROM:-0700
TZOFFSETTO:-0800
TZNAME:PST
DTSTART:20271107T090000
END:STANDARD
END:VTIMEZONE
BEGIN:VEVENT
DTSTART;VALUE=DATE:20260425
DTEND;VALUE=DATE:20260427
DTSTAMP:20260422T103411
CREATED:20260201T023929Z
LAST-MODIFIED:20260201T023929Z
UID:10000086-1777075200-1777247999@gretschgolf.com
SUMMARY:CJG Ventura Spring Classic
DESCRIPTION:Begins:\nNov 19\, 2025 at 12:01 AM PST\n\n\n Entry Deadline:\nApr 21\, 2026 at 9:01 PM PDT\n\n\n\n\n\n\n Entry Fee:\n Fee\n\n\n Member\n $225\n\n\n\n Non-Member\n $275\n\n\n\n\n\n\n\n Open To:\nMembers and Non-Members: \n\nParticipants aged 10 to 19 as of December 26\, 2026\n\n\n\n\n Field Size:\n60 players – Spots available\n\n\n Cancel Fee\n\n\n\n\n$0.00 if cancel by 12:01 AM on Wed Apr 15\n\n\n$25.00 if cancel by 12:01 AM on Mon Apr 20\n\n\n$125.00 if cancel by 12:01 AM on Sat Apr 25
URL:https://gretschgolf.com/events/cjg-ventura-spring-classic
LOCATION:Olivas Links\, 3750 Olivas Park Dr\, Ventura\, CA\, 93001\, United States
CATEGORIES:Ages 10-14,Ages 15-18,Boys,Boys & Girls,Elite Mountain Lion,Girls,Junior Academy
END:VEVENT
BEGIN:VEVENT
DTSTART;VALUE=DATE:20260502
DTEND;VALUE=DATE:20260504
DTSTAMP:20260422T103411
CREATED:20260212T004807Z
LAST-MODIFIED:20260212T004807Z
UID:10000095-1777680000-1777852799@gretschgolf.com
SUMMARY:National Tour Seaside Junior
DESCRIPTION:Welcome to the FCG Tour Spring Series. The World Series / National Tour Springs Series runs from January through July. ***Non Member registration rate opens 8 weeks before event date. Tee gifts on FCG Tour sponsored by Callaway Golf\, KBS Shafts and more! 36-Hole Age Divisions Boys College Prep Age 18 and Under Girls College Prep Age 18 and Under Boys 13-14 Girls 13-14 Boys 11-12- Caddies Allowed Girls 11-12- Caddies Allowed ***Collegiate Prep Boys & Girls– All players ages 15-18 must play in this field. All players 13 and up who are looking to take their game to the highest level should play up in this division. Players must be a min of 13 years old to compete in College Prep Division regardless of skill level. About the FCG National Tour Series – features 36-Hole Events throughout California and beyond. These events are great events for players to develop their competitive skills over multiple days on great venues. Opportunities to qualify for the AJGA and other events. All events are ranked by National Junior Golf Scoreboard and some are ranked by Golfweek
URL:https://gretschgolf.com/events/national-tour-seaside-junior
LOCATION:Arrowood Golf Club\, 5201 Village Dr\, Ocean Side\, CA\, 9057\, United States
CATEGORIES:Ages 10-14,Ages 15-18,Boys,Boys & Girls,Elite Mountain Lion,Girls,Junior Academy
END:VEVENT
BEGIN:VEVENT
DTSTART;VALUE=DATE:20260503
DTEND;VALUE=DATE:20260504
DTSTAMP:20260422T103411
CREATED:20260212T005812Z
LAST-MODIFIED:20260212T005812Z
UID:10000096-1777766400-1777852799@gretschgolf.com
SUMMARY:CJG Shootout @ Woodley GC
DESCRIPTION: Begins:\nNov 19\, 2025 at 12:01 AM PST\n\n\n Entry Deadline:\nApr 28\, 2026 at 10:01 PM PDT\n\n\n\n\n\n\n Entry Fee:\n Fee\n\n\n Member\n $120\n\n\n\n Non-Member\n $150\n\n\n\n\n\n\n\n Open To:\nMembers and Non-Members: \n\nParticipants aged 10 to 18 as of May 3\, 2026\n\n\n\n\n Field Size:\n60 players – Spots available\n\n\n Cancel Fee\n\n\n\n\n$0.00 if cancel by 12:01 AM on Fri Apr 24\n\n\n$20.00 if cancel by 12:01 AM on Wed Apr 29\n\n\n$60.00 if cancel by 12:01 AM on Sun May 3
URL:https://gretschgolf.com/events/cjg-shootout-woodley-gc
LOCATION:Woodley Lakes Golf Club\, 6331 Woodley Ave\, Van Nuys\, CA\, 91436\, United States
CATEGORIES:Ages 10-14,Ages 15-18,Boys,Boys & Girls,Elite Mountain Lion,Girls,Junior Academy
END:VEVENT
BEGIN:VEVENT
DTSTART;VALUE=DATE:20260509
DTEND;VALUE=DATE:20260511
DTSTAMP:20260422T103411
CREATED:20260212T010600Z
LAST-MODIFIED:20260212T010600Z
UID:10000097-1778284800-1778457599@gretschgolf.com
SUMMARY:National Tour Spring Challenge
DESCRIPTION:Welcome to the FCG Tour Spring Series. The World Series / National Tour Springs Series runs from January through July. ***Non Member registration rate opens 8 weeks before event date. Tee gifts on FCG Tour sponsored by Callaway Golf\, KBS Shafts and more! 36-Hole Age Divisions Boys College Prep Age 18 and Under Girls College Prep Age 18 and Under Boys 13-14 Girls 13-14 ***Collegiate Prep Boys & Girls– All players ages 15-18 must play in this field. All players 13 and up who are looking to take their game to the highest level should play up in this division. Players must be a min of 13 years old to compete in College Prep Division regardless of skill level. About the FCG National Tour Series – features 36-Hole Events throughout California and beyond. These events are great events for players to develop their competitive skills over multiple days on great venues. Opportunities to qualify for the AJGA and other events. All events are ranked by National Junior Golf Scoreboard and some are ranked by Golfweek.
URL:https://gretschgolf.com/events/national-tour-spring-challenge
LOCATION:Westin Rancho Mirage\, 17550 Bernardo Oaks Dr\, San Diego\, CA\, 92128\, United States
CATEGORIES:Ages 10-14,Ages 15-18,Boys,Boys & Girls,Elite Mountain Lion,Girls,Junior Academy
END:VEVENT
BEGIN:VEVENT
DTSTART;VALUE=DATE:20260516
DTEND;VALUE=DATE:20260518
DTSTAMP:20260422T103411
CREATED:20260212T010834Z
LAST-MODIFIED:20260212T010834Z
UID:10000098-1778889600-1779062399@gretschgolf.com
SUMMARY:CJG Memorial @ Hansen Dam GC
DESCRIPTION: Begins:\nNov 19\, 2025 at 12:01 AM PST\n\n\n Entry Deadline:\nMay 11\, 2026 at 11:59 PM PDT\n\n\n\n\n\n\n Entry Fee:\n Fee\n\n\n Member\n $225\n\n\n\n Non-Member\n $275\n\n\n\n\n\n\n\n Open To:\nMembers and Non-Members: \n\nParticipants aged 10 to 18 as of May 16\, 2026\nAmateur players only\n\n\n\n\n Field Size:\n76 players – Spots available\n\n\n Cancel Fee\n\n\n\n\n$0.00 if cancel by 12:01 AM on Tue May 6\n\n\n$25.00 if cancel by 12:01 AM on Sun May 11\n\n\n$125.00 if cancel by 12:01 AM on Sat May 16
URL:https://gretschgolf.com/events/cjg-memorial-hansen-dam-gc
LOCATION:Hansen Dam GC\, Pacoima\, California
CATEGORIES:Ages 10-14,Boys,Boys & Girls,Elite Mountain Lion,Girls,Junior Academy
END:VEVENT
BEGIN:VEVENT
DTSTART;VALUE=DATE:20260516
DTEND;VALUE=DATE:20260518
DTSTAMP:20260422T103411
CREATED:20260212T011035Z
LAST-MODIFIED:20260212T011035Z
UID:10000099-1778889600-1779062399@gretschgolf.com
SUMMARY:18TH ANNUAL FCG MEMORIAL CHAMPIONSHIP
DESCRIPTION:Welcome to the 18th ANNUAL FCG Memorial Championship at Westin Rancho Mirage Golf Resort. Come out for a fun weekend of golf. Lots of great activities for friends and family to make a great weekend vacation \n***Non Member registration rate opens 8 weeks before event date \nALL PLAYERS WILL RIDE IN A CART THIS EVENT. Boys and Girls 15-18 Divisions will ride in shared carts together. \nThese events are great events for players to develop their competitive skills over multiple days on great venues. Opportunities to qualify for the AJGA and other events. All events are ranked by National Junior Golf Scoreboard and some are ranked by Golfweek
URL:https://gretschgolf.com/events/18th-annual-fcg-memorial-championship
LOCATION:Westin Rancho Mirage\, 17550 Bernardo Oaks Dr\, San Diego\, CA\, 92128\, United States
CATEGORIES:Ages 10-14,Ages 15-18,Boys,Boys & Girls,Elite Mountain Lion,Girls,Junior Academy
END:VEVENT
BEGIN:VEVENT
DTSTART;VALUE=DATE:20260523
DTEND;VALUE=DATE:20260525
DTSTAMP:20260422T103411
CREATED:20260212T011243Z
LAST-MODIFIED:20260212T011243Z
UID:10000100-1779494400-1779667199@gretschgolf.com
SUMMARY:National Tour Spring Series Championship (Major)
DESCRIPTION:Welcome to the FCG Tour Spring Series. The World Series / National Tour Springs Series runs from January through July. ***Non Member registration rate opens 8 weeks before event date. Tee gifts on FCG Tour sponsored by Callaway Golf\, KBS Shafts and more! 36-Hole Age Divisions Boys College Prep Age 18 and Under Girls College Prep Age 18 and Under Boys 13-14 Girls 13-14 ***Collegiate Prep Boys & Girls– All players ages 15-18 must play in this field. All players 13 and up who are looking to take their game to the highest level should play up in this division. Players must be a min of 13 years old to compete in College Prep Division regardless of skill level. About the FCG National Tour Series – features 36-Hole Events throughout California and beyond. These events are great events for players to develop their competitive skills over multiple days on great venues. Opportunities to qualify for the AJGA and other events. All events are ranked by National Junior Golf Scoreboard and some are ranked by Golfweek.
URL:https://gretschgolf.com/events/national-tour-spring-series-championship-major
LOCATION:Temecula Creek Golf Club\, 44501 Rainbow Canyon Rd\, Temecula\, CA\, 92592\, United States
CATEGORIES:Ages 10-14,Ages 15-18,Boys,Boys & Girls,Elite Mountain Lion,Girls,Junior Academy
END:VEVENT
BEGIN:VEVENT
DTSTART;VALUE=DATE:20260530
DTEND;VALUE=DATE:20260601
DTSTAMP:20260422T103411
CREATED:20260212T012016Z
LAST-MODIFIED:20260212T012016Z
UID:10000101-1780099200-1780271999@gretschgolf.com
SUMMARY:FCG LOS ANGELES WORLD SERIES CHAMPIONSHIP
DESCRIPTION:Welcome to the 3rd Annual FCG Los Angeles Championship. Long overdue and we are bringing our world series schedule to LA County. Join us for what is sure to be a very competitive event with So Cal’s finest! \n36-Hole Age Divisions \nBoys College Prep Age 18 and Under \nGirls College Prep Age 18 and Under \n***Collegiate Prep Boys – All players ages 15-18 must play in this field. All boys 13-14 who are looking to take their game to the highest level should play up in this division. \nCollegiate Prep Girls – All Girls 15-18 must play in this field. All Girls 13-14 who are looking to take their game to the highest level should play up in this division. \nThese events are great events for players to develop their competitive skills over multiple days on great venues. Opportunities to qualify for the AJGA and other events. All events are ranked by National Junior Golf Scoreboard and some are ranked by Golfweek.
URL:https://gretschgolf.com/events/fcg-los-angeles-world-series-championship
LOCATION:Diamond Bar Golf Club\, 22751 Golden Springs Dr\, Diamond Bar\, CA\, 91765\, United States
CATEGORIES:Ages 10-14,Ages 15-18,Boys,Boys & Girls,Elite Mountain Lion,Girls,Junior Academy
END:VEVENT
BEGIN:VEVENT
DTSTART;VALUE=DATE:20260531
DTEND;VALUE=DATE:20260601
DTSTAMP:20260422T103411
CREATED:20260212T012536Z
LAST-MODIFIED:20260212T012536Z
UID:10000102-1780185600-1780271999@gretschgolf.com
SUMMARY:CJG Shootout @ Harding GC
DESCRIPTION:This Event serves as a local qualifier for the Notah Begay III Jr. Regional event on August 15-16\, 2026. See below for number qualifying spots from each of our Divisions.
URL:https://gretschgolf.com/events/cjg-shootout-harding-gc
LOCATION:Harding Golf Course\, 5500 Griffith Park Dr\, Los Angeles\, CA\, 90027\, United States
CATEGORIES:Ages 10-14,Ages 15-18,Boys,Boys & Girls,Elite Mountain Lion,Girls,Junior Academy
END:VEVENT
END:VCALENDAR