BEGIN:VCALENDAR
VERSION:2.0
PRODID:-//Gretsch Golf Academy - ECPv6.15.14//NONSGML v1.0//EN
CALSCALE:GREGORIAN
METHOD:PUBLISH
X-ORIGINAL-URL:https://gretschgolf.com
X-WR-CALDESC:Events for Gretsch Golf Academy
REFRESH-INTERVAL;VALUE=DURATION:PT1H
X-Robots-Tag:noindex
X-PUBLISHED-TTL:PT1H
BEGIN:VTIMEZONE
TZID:America/Los_Angeles
BEGIN:DAYLIGHT
TZOFFSETFROM:-0800
TZOFFSETTO:-0700
TZNAME:PDT
DTSTART:20240310T100000
END:DAYLIGHT
BEGIN:STANDARD
TZOFFSETFROM:-0700
TZOFFSETTO:-0800
TZNAME:PST
DTSTART:20241103T090000
END:STANDARD
BEGIN:DAYLIGHT
TZOFFSETFROM:-0800
TZOFFSETTO:-0700
TZNAME:PDT
DTSTART:20250309T100000
END:DAYLIGHT
BEGIN:STANDARD
TZOFFSETFROM:-0700
TZOFFSETTO:-0800
TZNAME:PST
DTSTART:20251102T090000
END:STANDARD
BEGIN:DAYLIGHT
TZOFFSETFROM:-0800
TZOFFSETTO:-0700
TZNAME:PDT
DTSTART:20260308T100000
END:DAYLIGHT
BEGIN:STANDARD
TZOFFSETFROM:-0700
TZOFFSETTO:-0800
TZNAME:PST
DTSTART:20261101T090000
END:STANDARD
END:VTIMEZONE
BEGIN:VEVENT
DTSTART;VALUE=DATE:20251122
DTEND;VALUE=DATE:20251124
DTSTAMP:20260420T011309
CREATED:20250909T150748Z
LAST-MODIFIED:20251114T233823Z
UID:10000013-1763769600-1763942399@gretschgolf.com
SUMMARY:SNJGA - Henderson Amateur
DESCRIPTION:Founded in 1977\, the Southern Nevada Junior Golf Association (SNJGA) is a non-profit organization that introduces Southern Nevada’s youth to the game of golf and helps junior golfers develop golf and life skills through the game of golf. \n  \n\nProvides junior golf programs for boys and girls ages 5–18 in Southern Nevada\nOffers a range of competitive and developmental tournaments throughout the year\nFocuses on golf education\, sportsmanship\, and character development\nHosts events at local and regional golf courses across the Las Vegas area\nOffers instructional clinics\, team-based formats\, and individual stroke play competitions\nSupports junior golfers in preparing for high school and collegiate golf\nPromotes a fun\, inclusive\, and family-friendly environment\nPartners with local golf professionals and organizations to provide mentorship and coaching\nProvides scholarship opportunities and pathways to national junior golf events
URL:https://gretschgolf.com/events/snjga-henderson-amateur
LOCATION:Legacy Golf Club\, 130 Par Excellence Dr\, Henderson\, Nevada\, 89074\, United States
CATEGORIES:Ages 10-14,Ages 15-18,Boys & Girls,Competitive Roadrunner,Elite Mountain Lion,Junior Academy
END:VEVENT
END:VCALENDAR