BEGIN:VCALENDAR
VERSION:2.0
PRODID:-//Gretsch Golf Academy - ECPv6.15.14//NONSGML v1.0//EN
CALSCALE:GREGORIAN
METHOD:PUBLISH
X-WR-CALNAME:Gretsch Golf Academy
X-ORIGINAL-URL:https://gretschgolf.com
X-WR-CALDESC:Events for Gretsch Golf Academy
REFRESH-INTERVAL;VALUE=DURATION:PT1H
X-Robots-Tag:noindex
X-PUBLISHED-TTL:PT1H
BEGIN:VTIMEZONE
TZID:America/Los_Angeles
BEGIN:DAYLIGHT
TZOFFSETFROM:-0800
TZOFFSETTO:-0700
TZNAME:PDT
DTSTART:20250309T100000
END:DAYLIGHT
BEGIN:STANDARD
TZOFFSETFROM:-0700
TZOFFSETTO:-0800
TZNAME:PST
DTSTART:20251102T090000
END:STANDARD
BEGIN:DAYLIGHT
TZOFFSETFROM:-0800
TZOFFSETTO:-0700
TZNAME:PDT
DTSTART:20260308T100000
END:DAYLIGHT
BEGIN:STANDARD
TZOFFSETFROM:-0700
TZOFFSETTO:-0800
TZNAME:PST
DTSTART:20261101T090000
END:STANDARD
BEGIN:DAYLIGHT
TZOFFSETFROM:-0800
TZOFFSETTO:-0700
TZNAME:PDT
DTSTART:20270314T100000
END:DAYLIGHT
BEGIN:STANDARD
TZOFFSETFROM:-0700
TZOFFSETTO:-0800
TZNAME:PST
DTSTART:20271107T090000
END:STANDARD
END:VTIMEZONE
BEGIN:VEVENT
DTSTART;VALUE=DATE:20260124
DTEND;VALUE=DATE:20260126
DTSTAMP:20260421T040715
CREATED:20251221T161659Z
LAST-MODIFIED:20251221T161659Z
UID:10000028-1769212800-1769385599@gretschgolf.com
SUMMARY:Phoenix Winter Junior Open
DESCRIPTION:
URL:https://gretschgolf.com/events/phoenix-winter-junior-open
LOCATION:Corte Bella Golf Club\, Sun City West\, Arizona
CATEGORIES:Ages 10-14,Ages 15-18,Boys & Girls,Competitive Roadrunner,Elite Mountain Lion,Junior Academy
END:VEVENT
END:VCALENDAR