BEGIN:VCALENDAR
VERSION:2.0
PRODID:-//Gretsch Golf Academy - ECPv6.15.14//NONSGML v1.0//EN
CALSCALE:GREGORIAN
METHOD:PUBLISH
X-ORIGINAL-URL:https://gretschgolf.com
X-WR-CALDESC:Events for Gretsch Golf Academy
REFRESH-INTERVAL;VALUE=DURATION:PT1H
X-Robots-Tag:noindex
X-PUBLISHED-TTL:PT1H
BEGIN:VTIMEZONE
TZID:America/Los_Angeles
BEGIN:DAYLIGHT
TZOFFSETFROM:-0800
TZOFFSETTO:-0700
TZNAME:PDT
DTSTART:20250309T100000
END:DAYLIGHT
BEGIN:STANDARD
TZOFFSETFROM:-0700
TZOFFSETTO:-0800
TZNAME:PST
DTSTART:20251102T090000
END:STANDARD
BEGIN:DAYLIGHT
TZOFFSETFROM:-0800
TZOFFSETTO:-0700
TZNAME:PDT
DTSTART:20260308T100000
END:DAYLIGHT
BEGIN:STANDARD
TZOFFSETFROM:-0700
TZOFFSETTO:-0800
TZNAME:PST
DTSTART:20261101T090000
END:STANDARD
BEGIN:DAYLIGHT
TZOFFSETFROM:-0800
TZOFFSETTO:-0700
TZNAME:PDT
DTSTART:20270314T100000
END:DAYLIGHT
BEGIN:STANDARD
TZOFFSETFROM:-0700
TZOFFSETTO:-0800
TZNAME:PST
DTSTART:20271107T090000
END:STANDARD
END:VTIMEZONE
BEGIN:VEVENT
DTSTART;VALUE=DATE:20260523
DTEND;VALUE=DATE:20260525
DTSTAMP:20260420T011804
CREATED:20260212T011243Z
LAST-MODIFIED:20260212T011243Z
UID:10000100-1779494400-1779667199@gretschgolf.com
SUMMARY:National Tour Spring Series Championship (Major)
DESCRIPTION:Welcome to the FCG Tour Spring Series. The World Series / National Tour Springs Series runs from January through July. ***Non Member registration rate opens 8 weeks before event date. Tee gifts on FCG Tour sponsored by Callaway Golf\, KBS Shafts and more! 36-Hole Age Divisions Boys College Prep Age 18 and Under Girls College Prep Age 18 and Under Boys 13-14 Girls 13-14 ***Collegiate Prep Boys & Girls– All players ages 15-18 must play in this field. All players 13 and up who are looking to take their game to the highest level should play up in this division. Players must be a min of 13 years old to compete in College Prep Division regardless of skill level. About the FCG National Tour Series – features 36-Hole Events throughout California and beyond. These events are great events for players to develop their competitive skills over multiple days on great venues. Opportunities to qualify for the AJGA and other events. All events are ranked by National Junior Golf Scoreboard and some are ranked by Golfweek.
URL:https://gretschgolf.com/events/national-tour-spring-series-championship-major
LOCATION:Temecula Creek Golf Club\, 44501 Rainbow Canyon Rd\, Temecula\, CA\, 92592\, United States
CATEGORIES:Ages 10-14,Ages 15-18,Boys,Boys & Girls,Elite Mountain Lion,Girls,Junior Academy
END:VEVENT
END:VCALENDAR